BEGIN:VCALENDAR
VERSION:2.0
PRODID:-//Broadway Academy at Mt Pleasant - ECPv5.16.4//NONSGML v1.0//EN
CALSCALE:GREGORIAN
METHOD:PUBLISH
X-WR-CALNAME:Broadway Academy at Mt Pleasant
X-ORIGINAL-URL:https://broadwayatmp.org
X-WR-CALDESC:Events for Broadway Academy at Mt Pleasant
BEGIN:VTIMEZONE
TZID:America/New_York
BEGIN:DAYLIGHT
TZOFFSETFROM:-0500
TZOFFSETTO:-0400
TZNAME:EDT
DTSTART:20230312T070000
END:DAYLIGHT
BEGIN:STANDARD
TZOFFSETFROM:-0400
TZOFFSETTO:-0500
TZNAME:EST
DTSTART:20231105T060000
END:STANDARD
END:VTIMEZONE
BEGIN:VEVENT
DTSTART;TZID=America/New_York:20230712T160000
DTEND;TZID=America/New_York:20230712T180000
DTSTAMP:20260424T071741
CREATED:20230606T183750Z
LAST-MODIFIED:20230606T183750Z
UID:6895-1689177600-1689184800@broadwayatmp.org
SUMMARY:Family Movie Night
DESCRIPTION:Get ready for a blockbuster evening of snacks\, cinema\, and learning adventure! We’ll be showing a family-friendly movie on the big screen and providing free snacks. Families interested in enrollment will have the opportunity to tour our campus and learn more about the upcoming school year.  \nRSVP Today! broadwayatmp.org/events
URL:https://broadwayatmp.org/event/family-movie-night/
LOCATION:Broadway Academy at Mount Pleasant\, 3845 E 131st St\, Cleveland\, OH\, 44120
CATEGORIES:Calendar Only,Prospective Families, Events, Home
END:VEVENT
END:VCALENDAR