BEGIN:VCALENDAR
VERSION:2.0
PRODID:-//Broadway Academy at Mt Pleasant - ECPv5.16.4//NONSGML v1.0//EN
CALSCALE:GREGORIAN
METHOD:PUBLISH
X-WR-CALNAME:Broadway Academy at Mt Pleasant
X-ORIGINAL-URL:https://broadwayatmp.org
X-WR-CALDESC:Events for Broadway Academy at Mt Pleasant
BEGIN:VTIMEZONE
TZID:America/New_York
BEGIN:DAYLIGHT
TZOFFSETFROM:-0500
TZOFFSETTO:-0400
TZNAME:EDT
DTSTART:20230312T070000
END:DAYLIGHT
BEGIN:STANDARD
TZOFFSETFROM:-0400
TZOFFSETTO:-0500
TZNAME:EST
DTSTART:20231105T060000
END:STANDARD
END:VTIMEZONE
BEGIN:VEVENT
DTSTART;TZID=America/New_York:20230805T150000
DTEND;TZID=America/New_York:20230805T180000
DTSTAMP:20260424T054654
CREATED:20230628T142543Z
LAST-MODIFIED:20230628T142543Z
UID:7021-1691247600-1691258400@broadwayatmp.org
SUMMARY:Back to School Bash
DESCRIPTION:The school year is about to begin & it’s not too late to enroll! Join us to celebrate the back to school season and prepare for the year ahead. Come to our BTS Bash to meet our teachers and enjoy music from a live DJ. Refreshments will be served. Start or finalize your enrollment paperwork with the help of our team.  \nRSVP Today! broadwayatmp.org/events
URL:https://broadwayatmp.org/event/back-school-bash/
LOCATION:Broadway Academy at Mount Pleasant\, 3845 E 131st St\, Cleveland\, OH\, 44120
END:VEVENT
END:VCALENDAR